BEGIN:VCALENDAR
VERSION:2.0
PRODID:-//Extinction Rebellion South Australia - ECPv5.3.2.1//NONSGML v1.0//EN
CALSCALE:GREGORIAN
METHOD:PUBLISH
X-WR-CALNAME:Extinction Rebellion South Australia
X-ORIGINAL-URL:https://xrsa.com.au
X-WR-CALDESC:Events for Extinction Rebellion South Australia
BEGIN:VTIMEZONE
TZID:Australia/Adelaide
BEGIN:STANDARD
TZOFFSETFROM:+1030
TZOFFSETTO:+0930
TZNAME:ACST
DTSTART:20210403T163000
END:STANDARD
BEGIN:DAYLIGHT
TZOFFSETFROM:+0930
TZOFFSETTO:+1030
TZNAME:ACDT
DTSTART:20211002T163000
END:DAYLIGHT
END:VTIMEZONE
BEGIN:VEVENT
DTSTART;TZID=Australia/Adelaide:20210215T190000
DTEND;TZID=Australia/Adelaide:20210215T203000
DTSTAMP:20210227T112116
CREATED:20210202T130121Z
LAST-MODIFIED:20210215T130136Z
UID:4540-1613415600-1613421000@xrsa.com.au
SUMMARY:Extinction Rebellion in the Pub - Verdun
DESCRIPTION:Come and join us for a chat about Extinction Rebellion and the climate and ecological crisis we are facing. This is an opportunity to share your thoughts and feelings with other local people about what it’s like to be living through the 6th mass extinction and to discover how Extinction Rebellion is responding to the crisis. Next steps to becoming involved will be discussed and all your questions answered. We will share all the up to date information about the upcoming day of rebellion on March 24th.
URL:https://xrsa.com.au/event/extinction-rebellion-in-the-pub-verdun/
LOCATION:Stanley Bridge Tavern\, 41 Onkaparinga Valley Road\, Verdun\, 5245\, AU
ATTACH;FMTTYPE=image/jpeg:https://xrsa.com.au/wp-content/uploads/2021/02/4540_image_145323147_757494715197903_4216728060870359712_o.jpg
END:VEVENT
END:VCALENDAR