BEGIN:VCALENDAR
VERSION:2.0
PRODID:-//Extinction Rebellion South Australia - ECPv5.3.2.1//NONSGML v1.0//EN
CALSCALE:GREGORIAN
METHOD:PUBLISH
X-WR-CALNAME:Extinction Rebellion South Australia
X-ORIGINAL-URL:https://xrsa.com.au
X-WR-CALDESC:Events for Extinction Rebellion South Australia
BEGIN:VTIMEZONE
TZID:Australia/Adelaide
BEGIN:STANDARD
TZOFFSETFROM:+1030
TZOFFSETTO:+0930
TZNAME:ACST
DTSTART:20210403T163000
END:STANDARD
BEGIN:DAYLIGHT
TZOFFSETFROM:+0930
TZOFFSETTO:+1030
TZNAME:ACDT
DTSTART:20211002T163000
END:DAYLIGHT
END:VTIMEZONE
BEGIN:VEVENT
DTSTART;TZID=Australia/Adelaide:20210216T190000
DTEND;TZID=Australia/Adelaide:20210216T210000
DTSTAMP:20210227T112228
CREATED:20210211T130109Z
LAST-MODIFIED:20210216T010049Z
UID:4608-1613502000-1613509200@xrsa.com.au
SUMMARY:Online - Welcome to Extinction Rebellion - Our DNA
DESCRIPTION:To register for this event go to:  \nhttps://actionnetwork.org/events/welcome-to-extinction-rebellion-our-dna-4/ \nAre you new to Extinction Rebellion or an old hand keen to refresh or re-ground your understanding of Extinction Rebellion DNA? \nIn this key 2-hour workshop we’ll take a deep dive into XR culture exploring:\nOur Three key Demands\nOur Principles & Values – the basis of the Rebel Code under which we operate\nOur story\, strategy and theory of change\nThe growth of Extinction Rebellion has been explosive across the globe. Following from natural processes\, Extinction Rebellion has a core ‘DNA’. This acts as the base for all our activities. The DNA includes: our demands\, 10 principles and values\, and our organisation structure. In this workshop you will learn more about these key characteristics of Extinction Rebellion and how you might fit into the growing Extinction Rebellion organism. \nThis workshop is the next step for those who’ve seen our Heading for Extinction talk (can be watched online) and wish to contribute their skills and passion to the movement. \nWe are using the video conferencing tool Zoom for this event. Upon registering on Action Network you’ll be provided with instructions on how to install and use Zoom on your device. We’ll also provide you with ways to contact us if you require technical support. \nNote: times are in AEDT timezone GMT+11\, ie\, NSW/Vic/Tas daylight savings time.
URL:https://xrsa.com.au/event/online-welcome-to-extinction-rebellion-our-dna-2/
ATTACH;FMTTYPE=image/jpeg:https://xrsa.com.au/wp-content/uploads/2021/02/4608_image_148266078_4292554647425550_3581826087889954111_o.jpg
END:VEVENT
END:VCALENDAR